BEGIN:VCALENDAR
VERSION:2.0
PRODID:-//Federación Nacional Deportiva Peruana de Ciclismo - ECPv6.0.5//NONSGML v1.0//EN
CALSCALE:GREGORIAN
METHOD:PUBLISH
X-WR-CALNAME:Federación Nacional Deportiva Peruana de Ciclismo
X-ORIGINAL-URL:https://fedepeci.pe
X-WR-CALDESC:Eventos para Federación Nacional Deportiva Peruana de Ciclismo
REFRESH-INTERVAL;VALUE=DURATION:PT1H
X-Robots-Tag:noindex
X-PUBLISHED-TTL:PT1H
BEGIN:VTIMEZONE
TZID:America/Lima
BEGIN:STANDARD
TZOFFSETFROM:-0500
TZOFFSETTO:-0500
TZNAME:-05
DTSTART:20240101T000000
END:STANDARD
END:VTIMEZONE
BEGIN:VEVENT
DTSTART;VALUE=DATE:20240714
DTEND;VALUE=DATE:20240715
DTSTAMP:20260422T070541
CREATED:20231227T205647Z
LAST-MODIFIED:20250305T152155Z
UID:11886-1720915200-1721001599@fedepeci.pe
SUMMARY:CAMPEONATO NACIONAL DE DH 2024 - LIMA
DESCRIPTION:GUIA TECNICA COPA LIMA Y FEDERACION C2\n		\n					\n		\n				\n				\n				\n				\n					\n			\n						\n						GUIA TECNICA COPA LIMA Y FEDERACION C2 (ENGLISH)\n		\n					\n		\n				\n				\n				\n				\n					\n			\n						\n						Formulario Inscripcion / Entry Form C2 Lima 2026
URL:https://fedepeci.pe/event/nacional-de-dh-2024-lima/
CATEGORIES:DHI,MTB
ATTACH;FMTTYPE=image/jpeg:https://fedepeci.pe/wp-content/uploads/2023/12/neventodh0038.jpg
END:VEVENT
BEGIN:VEVENT
DTSTART;VALUE=DATE:20240714
DTEND;VALUE=DATE:20240715
DTSTAMP:20260422T070542
CREATED:20240110T201910Z
LAST-MODIFIED:20250305T152155Z
UID:11994-1720915200-1721001599@fedepeci.pe
SUMMARY:CAMPEONATO NACIONAL BMX FREESTYLE FLAT 2024
DESCRIPTION:GUIA TECNICA COPA LIMA Y FEDERACION C2\n		\n					\n		\n				\n				\n				\n				\n					\n			\n						\n						GUIA TECNICA COPA LIMA Y FEDERACION C2 (ENGLISH)\n		\n					\n		\n				\n				\n				\n				\n					\n			\n						\n						Formulario Inscripcion / Entry Form C2 Lima 2026
URL:https://fedepeci.pe/event/campeonato-nacional-bmx-freestyle-flat-2024/
LOCATION:Velodromo de la Videna\, Velodromo de la Videna\, San Luis\, Lima\, Perú
CATEGORIES:BMX,Freestyle Flat
ATTACH;FMTTYPE=image/jpeg:https://fedepeci.pe/wp-content/uploads/2024/01/neventobmx0067.jpg
END:VEVENT
END:VCALENDAR