BEGIN:VCALENDAR
VERSION:2.0
PRODID:-//Federación Nacional Deportiva Peruana de Ciclismo - ECPv6.0.5//NONSGML v1.0//EN
CALSCALE:GREGORIAN
METHOD:PUBLISH
X-ORIGINAL-URL:https://fedepeci.pe
X-WR-CALDESC:Eventos para Federación Nacional Deportiva Peruana de Ciclismo
REFRESH-INTERVAL;VALUE=DURATION:PT1H
X-Robots-Tag:noindex
X-PUBLISHED-TTL:PT1H
BEGIN:VTIMEZONE
TZID:America/Lima
BEGIN:STANDARD
TZOFFSETFROM:-0500
TZOFFSETTO:-0500
TZNAME:-05
DTSTART:20240101T000000
END:STANDARD
END:VTIMEZONE
BEGIN:VEVENT
DTSTART;VALUE=DATE:20240907
DTEND;VALUE=DATE:20240909
DTSTAMP:20260422T080321
CREATED:20240705T031241Z
LAST-MODIFIED:20250305T152135Z
UID:12642-1725667200-1725839999@fedepeci.pe
SUMMARY:CAMPEONATO SUDAMERICANO DE BMX Y CAMPEONATO IBEROAMERICANO BMX - PERÚ 2024
DESCRIPTION:Formulario de Inscripción\n					 \nLuego de llenar el Formulario de Inscripción enviar adjunto a: asisjut@fedepeci.pecon copia a:presidencia@fedepeci.pe\, linakatogui@hotmail.com y sergioescobar20@yahoo.es
URL:https://fedepeci.pe/event/campeonato-sudamericano-de-bmx-y-campeonato-iberoamericano-bmx-peru-2024/
LOCATION:Lima
CATEGORIES:BMX,Racing
ATTACH;FMTTYPE=image/jpeg:https://fedepeci.pe/wp-content/uploads/2024/07/neventobmx0068.jpg
END:VEVENT
BEGIN:VEVENT
DTSTART;VALUE=DATE:20240929
DTEND;VALUE=DATE:20240930
DTSTAMP:20260422T080321
CREATED:20231215T145243Z
LAST-MODIFIED:20250305T152135Z
UID:11806-1727568000-1727654399@fedepeci.pe
SUMMARY:7MA FECHA DEL RANKING NACIONAL BMX RACING 2024
DESCRIPTION:
URL:https://fedepeci.pe/event/7a-fecha-del-ranking-nacional-bmx-racing-2024/
CATEGORIES:BMX,Racing
ATTACH;FMTTYPE=image/jpeg:https://fedepeci.pe/wp-content/uploads/2023/12/29bannerh.jpeg
END:VEVENT
END:VCALENDAR