BEGIN:VCALENDAR
VERSION:2.0
PRODID:-//Federación Nacional Deportiva Peruana de Ciclismo - ECPv6.0.5//NONSGML v1.0//EN
CALSCALE:GREGORIAN
METHOD:PUBLISH
X-ORIGINAL-URL:https://fedepeci.pe
X-WR-CALDESC:Eventos para Federación Nacional Deportiva Peruana de Ciclismo
REFRESH-INTERVAL;VALUE=DURATION:PT1H
X-Robots-Tag:noindex
X-PUBLISHED-TTL:PT1H
BEGIN:VTIMEZONE
TZID:America/Lima
BEGIN:STANDARD
TZOFFSETFROM:-0500
TZOFFSETTO:-0500
TZNAME:-05
DTSTART:20240101T000000
END:STANDARD
END:VTIMEZONE
BEGIN:VEVENT
DTSTART;VALUE=DATE:20240904
DTEND;VALUE=DATE:20240909
DTSTAMP:20260423T152116
CREATED:20240719T000221Z
LAST-MODIFIED:20250305T152135Z
UID:12877-1725408000-1725839999@fedepeci.pe
SUMMARY:CURSO AVANZADO JUECES NACIONALES DE BMX RACING
DESCRIPTION:Formulario de Inscripción\n		\n					\n		\n				\n				\n						\n					\n		\n								\n					\n		\n				\n						\n							\n					\n			\n							\n						\n				\n								\n				¡Te esperamos!
URL:https://fedepeci.pe/event/curso-avanzado-jueces-nacionales-de-bmx-racing/
CATEGORIES:CAPACITACIONES,Capacitaciones BMX Racing
ATTACH;FMTTYPE=image/jpeg:https://fedepeci.pe/wp-content/uploads/2024/07/banCAPA005.jpg
END:VEVENT
END:VCALENDAR