BEGIN:VCALENDAR
VERSION:2.0
PRODID:-//Federación Nacional Deportiva Peruana de Ciclismo - ECPv6.0.5//NONSGML v1.0//EN
CALSCALE:GREGORIAN
METHOD:PUBLISH
X-WR-CALNAME:Federación Nacional Deportiva Peruana de Ciclismo
X-ORIGINAL-URL:https://fedepeci.pe
X-WR-CALDESC:Eventos para Federación Nacional Deportiva Peruana de Ciclismo
REFRESH-INTERVAL;VALUE=DURATION:PT1H
X-Robots-Tag:noindex
X-PUBLISHED-TTL:PT1H
BEGIN:VTIMEZONE
TZID:America/Lima
BEGIN:STANDARD
TZOFFSETFROM:-0500
TZOFFSETTO:-0500
TZNAME:-05
DTSTART:20240101T000000
END:STANDARD
END:VTIMEZONE
BEGIN:VEVENT
DTSTART;VALUE=DATE:20240707
DTEND;VALUE=DATE:20240708
DTSTAMP:20260422T200035
CREATED:20240116T191151Z
LAST-MODIFIED:20250305T152155Z
UID:12099-1720310400-1720396799@fedepeci.pe
SUMMARY:CAMPEONATO NACIONAL XCM 2024
DESCRIPTION:
URL:https://fedepeci.pe/event/campeonato-nacional-xcm-2024/
LOCATION:Chincha
CATEGORIES:MTB,XCM,XCO
ATTACH;FMTTYPE=image/png:https://fedepeci.pe/wp-content/uploads/2017/09/EventoGEN.png.png
END:VEVENT
END:VCALENDAR