BEGIN:VCALENDAR
VERSION:2.0
PRODID:-//Federación Nacional Deportiva Peruana de Ciclismo - ECPv6.0.5//NONSGML v1.0//EN
CALSCALE:GREGORIAN
METHOD:PUBLISH
X-ORIGINAL-URL:https://fedepeci.pe
X-WR-CALDESC:Eventos para Federación Nacional Deportiva Peruana de Ciclismo
REFRESH-INTERVAL;VALUE=DURATION:PT1H
X-Robots-Tag:noindex
X-PUBLISHED-TTL:PT1H
BEGIN:VTIMEZONE
TZID:America/Lima
BEGIN:STANDARD
TZOFFSETFROM:-0500
TZOFFSETTO:-0500
TZNAME:-05
DTSTART:20250101T000000
END:STANDARD
END:VTIMEZONE
BEGIN:VEVENT
DTSTART;VALUE=DATE:20251122
DTEND;VALUE=DATE:20251208
DTSTAMP:20260420T233413
CREATED:20250210T164104Z
LAST-MODIFIED:20250305T151929Z
UID:13639-1763769600-1765151999@fedepeci.pe
SUMMARY:JUEGOS PANAMERICANOS PISTA 2025
DESCRIPTION:GUIA TECNICA COPA LIMA Y FEDERACION C2\n		\n					\n		\n				\n				\n				\n				\n					\n			\n						\n						GUIA TECNICA COPA LIMA Y FEDERACION C2 (ENGLISH)\n		\n					\n		\n				\n				\n				\n				\n					\n			\n						\n						Formulario Inscripcion / Entry Form C2 Lima 2026
URL:https://fedepeci.pe/event/juegos-panamericanos-pista-2025/
CATEGORIES:Pista
ATTACH;FMTTYPE=image/png:https://fedepeci.pe/wp-content/uploads/2017/09/EventoGEN.png.png
END:VEVENT
END:VCALENDAR