BEGIN:VCALENDAR
VERSION:2.0
PRODID:-//Federación Nacional Deportiva Peruana de Ciclismo - ECPv6.0.5//NONSGML v1.0//EN
CALSCALE:GREGORIAN
METHOD:PUBLISH
X-WR-CALNAME:Federación Nacional Deportiva Peruana de Ciclismo
X-ORIGINAL-URL:https://fedepeci.pe
X-WR-CALDESC:Eventos para Federación Nacional Deportiva Peruana de Ciclismo
REFRESH-INTERVAL;VALUE=DURATION:PT1H
X-Robots-Tag:noindex
X-PUBLISHED-TTL:PT1H
BEGIN:VTIMEZONE
TZID:America/Lima
BEGIN:STANDARD
TZOFFSETFROM:-0500
TZOFFSETTO:-0500
TZNAME:-05
DTSTART:20250101T000000
END:STANDARD
END:VTIMEZONE
BEGIN:VEVENT
DTSTART;VALUE=DATE:20250302
DTEND;VALUE=DATE:20250303
DTSTAMP:20260421T210232
CREATED:20250210T164549Z
LAST-MODIFIED:20250305T152116Z
UID:13644-1740873600-1740959999@fedepeci.pe
SUMMARY:1A FECHA DEL RANKING NACIONAL OPEN MORRO DH 2025
DESCRIPTION:GUIA TECNICA COPA LIMA Y FEDERACION C2\n		\n					\n		\n				\n				\n				\n				\n					\n			\n						\n						GUIA TECNICA COPA LIMA Y FEDERACION C2 (ENGLISH)\n		\n					\n		\n				\n				\n				\n				\n					\n			\n						\n						Formulario Inscripcion / Entry Form C2 Lima 2026
URL:https://fedepeci.pe/event/1a-fecha-del-ranking-nacional-open-morro-dh-2025/
LOCATION:Morro Solar
CATEGORIES:DHI,MTB
ATTACH;FMTTYPE=image/png:https://fedepeci.pe/wp-content/uploads/2017/09/EventoGEN.png.png
END:VEVENT
BEGIN:VEVENT
DTSTART;VALUE=DATE:20250309
DTEND;VALUE=DATE:20250310
DTSTAMP:20260421T210232
CREATED:20250210T141900Z
LAST-MODIFIED:20250305T152116Z
UID:13516-1741478400-1741564799@fedepeci.pe
SUMMARY:2a Fecha Ranking Nacional BMX Racing 2025
DESCRIPTION:GUIA TECNICA COPA LIMA Y FEDERACION C2\n		\n					\n		\n				\n				\n				\n				\n					\n			\n						\n						GUIA TECNICA COPA LIMA Y FEDERACION C2 (ENGLISH)\n		\n					\n		\n				\n				\n				\n				\n					\n			\n						\n						Formulario Inscripcion / Entry Form C2 Lima 2026
URL:https://fedepeci.pe/event/2a-fecha-ranking-nacional-bmx-racing-2025/
CATEGORIES:BMX,Racing
ATTACH;FMTTYPE=image/jpeg:https://fedepeci.pe/wp-content/uploads/2025/02/neventobmx0071.jpg
END:VEVENT
BEGIN:VEVENT
DTSTART;VALUE=DATE:20250316
DTEND;VALUE=DATE:20250317
DTSTAMP:20260421T210232
CREATED:20250210T155321Z
LAST-MODIFIED:20250305T152100Z
UID:13581-1742083200-1742169599@fedepeci.pe
SUMMARY:1A FECHA RANKING NACIONAL BMX FREESTYLE FLAT 2025
DESCRIPTION:GUIA TECNICA COPA LIMA Y FEDERACION C2\n		\n					\n		\n				\n				\n				\n				\n					\n			\n						\n						GUIA TECNICA COPA LIMA Y FEDERACION C2 (ENGLISH)\n		\n					\n		\n				\n				\n				\n				\n					\n			\n						\n						Formulario Inscripcion / Entry Form C2 Lima 2026
URL:https://fedepeci.pe/event/1a-fecha-ranking-nacional-bmx-freestyle-flat-2025/
LOCATION:Velodromo de la Videna\, Velodromo de la Videna\, San Luis\, Lima\, Perú
CATEGORIES:BMX,Freestyle Flat
ATTACH;FMTTYPE=image/png:https://fedepeci.pe/wp-content/uploads/2017/09/EventoGEN.png.png
END:VEVENT
BEGIN:VEVENT
DTSTART;VALUE=DATE:20250316
DTEND;VALUE=DATE:20250317
DTSTAMP:20260421T210232
CREATED:20250319T182814Z
LAST-MODIFIED:20250429T234408Z
UID:13818-1742083200-1742169599@fedepeci.pe
SUMMARY:2DA FECHA RANKING NACIONAL XCO
DESCRIPTION:GUIA TECNICA COPA LIMA Y FEDERACION C2\n		\n					\n		\n				\n				\n				\n				\n					\n			\n						\n						GUIA TECNICA COPA LIMA Y FEDERACION C2 (ENGLISH)\n		\n					\n		\n				\n				\n				\n				\n					\n			\n						\n						Formulario Inscripcion / Entry Form C2 Lima 2026
URL:https://fedepeci.pe/event/2da-fecha-ranking-nacional/
LOCATION:Ventanilla
CATEGORIES:MTB,XCO
ATTACH;FMTTYPE=image/jpeg:https://fedepeci.pe/wp-content/uploads/2025/03/neventoxco0014.jpg
END:VEVENT
BEGIN:VEVENT
DTSTART;VALUE=DATE:20250329
DTEND;VALUE=DATE:20250331
DTSTAMP:20260421T210232
CREATED:20250210T161357Z
LAST-MODIFIED:20250305T152100Z
UID:13610-1743206400-1743379199@fedepeci.pe
SUMMARY:1A FECHA RANKING NACIONAL RUTA 2025
DESCRIPTION:GUIA TECNICA COPA LIMA Y FEDERACION C2\n		\n					\n		\n				\n				\n				\n				\n					\n			\n						\n						GUIA TECNICA COPA LIMA Y FEDERACION C2 (ENGLISH)\n		\n					\n		\n				\n				\n				\n				\n					\n			\n						\n						Formulario Inscripcion / Entry Form C2 Lima 2026
URL:https://fedepeci.pe/event/1a-fecha-ranking-nacional-ruta-2025/
CATEGORIES:Ruta
ATTACH;FMTTYPE=image/png:https://fedepeci.pe/wp-content/uploads/2017/09/EventoGEN.png.png
END:VEVENT
BEGIN:VEVENT
DTSTART;VALUE=DATE:20250410
DTEND;VALUE=DATE:20250411
DTSTAMP:20260421T210232
CREATED:20250210T160056Z
LAST-MODIFIED:20250305T152100Z
UID:13594-1744243200-1744329599@fedepeci.pe
SUMMARY:1A FECHA RANKING NACIONAL E-CYCLING 2025 (VIRTUAL)
DESCRIPTION:GUIA TECNICA COPA LIMA Y FEDERACION C2\n		\n					\n		\n				\n				\n				\n				\n					\n			\n						\n						GUIA TECNICA COPA LIMA Y FEDERACION C2 (ENGLISH)\n		\n					\n		\n				\n				\n				\n				\n					\n			\n						\n						Formulario Inscripcion / Entry Form C2 Lima 2026
URL:https://fedepeci.pe/event/1a-fecha-ranking-nacional-e-cycling-2025/
LOCATION:Virtual
CATEGORIES:E-Cycling
ATTACH;FMTTYPE=image/png:https://fedepeci.pe/wp-content/uploads/2017/09/EventoGEN.png.png
END:VEVENT
BEGIN:VEVENT
DTSTART;VALUE=DATE:20250412
DTEND;VALUE=DATE:20250414
DTSTAMP:20260421T210232
CREATED:20250416T165404Z
LAST-MODIFIED:20250416T170208Z
UID:13867-1744416000-1744588799@fedepeci.pe
SUMMARY:CAMPEONATO NACIONAL SANTISIMO DH 2025
DESCRIPTION:GUIA TECNICA COPA LIMA Y FEDERACION C2\n		\n					\n		\n				\n				\n				\n				\n					\n			\n						\n						GUIA TECNICA COPA LIMA Y FEDERACION C2 (ENGLISH)\n		\n					\n		\n				\n				\n				\n				\n					\n			\n						\n						Formulario Inscripcion / Entry Form C2 Lima 2026
URL:https://fedepeci.pe/event/camp-nac-santisimo-dh-2025/
LOCATION:Chicón\, Cuzco
CATEGORIES:DHI,MTB
ATTACH;FMTTYPE=image/jpeg:https://fedepeci.pe/wp-content/uploads/2025/04/neventodh0039.jpg
END:VEVENT
BEGIN:VEVENT
DTSTART;VALUE=DATE:20250413
DTEND;VALUE=DATE:20250414
DTSTAMP:20260421T210232
CREATED:20250210T153849Z
LAST-MODIFIED:20250305T152100Z
UID:13563-1744502400-1744588799@fedepeci.pe
SUMMARY:2A FECHA RANKING NACIONAL BMX PARK 2025
DESCRIPTION:GUIA TECNICA COPA LIMA Y FEDERACION C2\n		\n					\n		\n				\n				\n				\n				\n					\n			\n						\n						GUIA TECNICA COPA LIMA Y FEDERACION C2 (ENGLISH)\n		\n					\n		\n				\n				\n				\n				\n					\n			\n						\n						Formulario Inscripcion / Entry Form C2 Lima 2026
URL:https://fedepeci.pe/event/2a-fecha-ranking-nacional-bmx-freestyle-2025/
CATEGORIES:BMX,Freestyle Park
ATTACH;FMTTYPE=image/png:https://fedepeci.pe/wp-content/uploads/2017/09/EventoGEN.png.png
END:VEVENT
BEGIN:VEVENT
DTSTART;VALUE=DATE:20250413
DTEND;VALUE=DATE:20250414
DTSTAMP:20260421T210232
CREATED:20250210T154238Z
LAST-MODIFIED:20250416T171911Z
UID:13570-1744502400-1744588799@fedepeci.pe
SUMMARY:CAMPEONATO NACIONAL BMX PARK 2025
DESCRIPTION:GUIA TECNICA COPA LIMA Y FEDERACION C2\n		\n					\n		\n				\n				\n				\n				\n					\n			\n						\n						GUIA TECNICA COPA LIMA Y FEDERACION C2 (ENGLISH)\n		\n					\n		\n				\n				\n				\n				\n					\n			\n						\n						Formulario Inscripcion / Entry Form C2 Lima 2026
URL:https://fedepeci.pe/event/campeonato-nacional-bmx-park-2025/
CATEGORIES:BMX,Freestyle Park
ATTACH;FMTTYPE=image/png:https://fedepeci.pe/wp-content/uploads/2017/09/EventoGEN.png.png
END:VEVENT
BEGIN:VEVENT
DTSTART;VALUE=DATE:20250413
DTEND;VALUE=DATE:20250414
DTSTAMP:20260421T210232
CREATED:20250210T162423Z
LAST-MODIFIED:20250305T152100Z
UID:13626-1744502400-1744588799@fedepeci.pe
SUMMARY:2A FECHA RANKING NACIONAL PISTA 2025
DESCRIPTION:GUIA TECNICA COPA LIMA Y FEDERACION C2\n		\n					\n		\n				\n				\n				\n				\n					\n			\n						\n						GUIA TECNICA COPA LIMA Y FEDERACION C2 (ENGLISH)\n		\n					\n		\n				\n				\n				\n				\n					\n			\n						\n						Formulario Inscripcion / Entry Form C2 Lima 2026
URL:https://fedepeci.pe/event/2a-fecha-ranking-nacional-pista-2025/
LOCATION:Velodromo de la Videna\, Velodromo de la Videna\, San Luis\, Lima\, Perú
CATEGORIES:Pista
ATTACH;FMTTYPE=image/png:https://fedepeci.pe/wp-content/uploads/2017/09/EventoGEN.png.png
END:VEVENT
BEGIN:VEVENT
DTSTART;VALUE=DATE:20250420
DTEND;VALUE=DATE:20250421
DTSTAMP:20260421T210232
CREATED:20250210T141956Z
LAST-MODIFIED:20250305T152100Z
UID:13518-1745107200-1745193599@fedepeci.pe
SUMMARY:3a Fecha Ranking Nacional BMX Racing 2025
DESCRIPTION:GUIA TECNICA COPA LIMA Y FEDERACION C2\n		\n					\n		\n				\n				\n				\n				\n					\n			\n						\n						GUIA TECNICA COPA LIMA Y FEDERACION C2 (ENGLISH)\n		\n					\n		\n				\n				\n				\n				\n					\n			\n						\n						Formulario Inscripcion / Entry Form C2 Lima 2026
URL:https://fedepeci.pe/event/3a-fecha-ranking-nacional-bmx-racing-2025/
CATEGORIES:BMX,Racing
ATTACH;FMTTYPE=image/png:https://fedepeci.pe/wp-content/uploads/2017/09/EventoGEN.png.png
END:VEVENT
BEGIN:VEVENT
DTSTART;VALUE=DATE:20250422
DTEND;VALUE=DATE:20250430
DTSTAMP:20260421T210232
CREATED:20250210T160624Z
LAST-MODIFIED:20250305T152100Z
UID:13606-1745280000-1745971199@fedepeci.pe
SUMMARY:CAMPEONATO PANAMERICANO E-CYCLING 2025 (VIRTUAL)
DESCRIPTION:GUIA TECNICA COPA LIMA Y FEDERACION C2\n		\n					\n		\n				\n				\n				\n				\n					\n			\n						\n						GUIA TECNICA COPA LIMA Y FEDERACION C2 (ENGLISH)\n		\n					\n		\n				\n				\n				\n				\n					\n			\n						\n						Formulario Inscripcion / Entry Form C2 Lima 2026
URL:https://fedepeci.pe/event/campeonato-panamericano-e-cycling-2025-2/
LOCATION:Virtual
CATEGORIES:E-Cycling
ATTACH;FMTTYPE=image/png:https://fedepeci.pe/wp-content/uploads/2017/09/EventoGEN.png.png
END:VEVENT
BEGIN:VEVENT
DTSTART;VALUE=DATE:20250427
DTEND;VALUE=DATE:20250428
DTSTAMP:20260421T210232
CREATED:20250404T225153Z
LAST-MODIFIED:20250428T135542Z
UID:13855-1745712000-1745798399@fedepeci.pe
SUMMARY:Primer Criterium San Luis Urbano
DESCRIPTION:GUIA TECNICA COPA LIMA Y FEDERACION C2\n		\n					\n		\n				\n				\n				\n				\n					\n			\n						\n						GUIA TECNICA COPA LIMA Y FEDERACION C2 (ENGLISH)\n		\n					\n		\n				\n				\n				\n				\n					\n			\n						\n						Formulario Inscripcion / Entry Form C2 Lima 2026
URL:https://fedepeci.pe/event/primer-criterium-san-luis-urbano/
CATEGORIES:Ruta
ATTACH;FMTTYPE=image/jpeg:https://fedepeci.pe/wp-content/uploads/2025/04/neventoruta0036.jpg
END:VEVENT
BEGIN:VEVENT
DTSTART;VALUE=DATE:20250504
DTEND;VALUE=DATE:20250505
DTSTAMP:20260421T210232
CREATED:20250210T155435Z
LAST-MODIFIED:20250305T152100Z
UID:13583-1746316800-1746403199@fedepeci.pe
SUMMARY:2A FECHA RANKING NACIONAL BMX FREESTYLE FLAT 2025
DESCRIPTION:GUIA TECNICA COPA LIMA Y FEDERACION C2\n		\n					\n		\n				\n				\n				\n				\n					\n			\n						\n						GUIA TECNICA COPA LIMA Y FEDERACION C2 (ENGLISH)\n		\n					\n		\n				\n				\n				\n				\n					\n			\n						\n						Formulario Inscripcion / Entry Form C2 Lima 2026
URL:https://fedepeci.pe/event/2a-fecha-ranking-nacional-bmx-freestyle-flat-2025/
LOCATION:Velodromo de la Videna\, Velodromo de la Videna\, San Luis\, Lima\, Perú
CATEGORIES:BMX,Freestyle Flat
ATTACH;FMTTYPE=image/png:https://fedepeci.pe/wp-content/uploads/2017/09/EventoGEN.png.png
END:VEVENT
BEGIN:VEVENT
DTSTART;VALUE=DATE:20250511
DTEND;VALUE=DATE:20250512
DTSTAMP:20260421T210232
CREATED:20250210T162455Z
LAST-MODIFIED:20250305T152100Z
UID:13628-1746921600-1747007999@fedepeci.pe
SUMMARY:3A FECHA RANKING NACIONAL PISTA 2025
DESCRIPTION:GUIA TECNICA COPA LIMA Y FEDERACION C2\n		\n					\n		\n				\n				\n				\n				\n					\n			\n						\n						GUIA TECNICA COPA LIMA Y FEDERACION C2 (ENGLISH)\n		\n					\n		\n				\n				\n				\n				\n					\n			\n						\n						Formulario Inscripcion / Entry Form C2 Lima 2026
URL:https://fedepeci.pe/event/3a-fecha-ranking-nacional-pista-2025/
LOCATION:Velodromo de la Videna\, Velodromo de la Videna\, San Luis\, Lima\, Perú
CATEGORIES:Pista
ATTACH;FMTTYPE=image/png:https://fedepeci.pe/wp-content/uploads/2017/09/EventoGEN.png.png
END:VEVENT
BEGIN:VEVENT
DTSTART;VALUE=DATE:20250517
DTEND;VALUE=DATE:20250519
DTSTAMP:20260421T210232
CREATED:20250501T025919Z
LAST-MODIFIED:20250525T141356Z
UID:13895-1747440000-1747612799@fedepeci.pe
SUMMARY:CAMPEONATO NACIONAL DE RUTA ELITE 2025
DESCRIPTION:GUIA TECNICA COPA LIMA Y FEDERACION C2\n		\n					\n		\n				\n				\n				\n				\n					\n			\n						\n						GUIA TECNICA COPA LIMA Y FEDERACION C2 (ENGLISH)\n		\n					\n		\n				\n				\n				\n				\n					\n			\n						\n						Formulario Inscripcion / Entry Form C2 Lima 2026
URL:https://fedepeci.pe/event/campeonato-nacional-de-ruta-elite-2025/
CATEGORIES:Ruta
ATTACH;FMTTYPE=image/jpeg:https://fedepeci.pe/wp-content/uploads/2025/04/neventoruta0037.jpg
END:VEVENT
BEGIN:VEVENT
DTSTART;VALUE=DATE:20250525
DTEND;VALUE=DATE:20250526
DTSTAMP:20260421T210232
CREATED:20250210T142040Z
LAST-MODIFIED:20250519T174436Z
UID:13520-1748131200-1748217599@fedepeci.pe
SUMMARY:4a Fecha Ranking Nacional BMX Racing 2025
DESCRIPTION:GUIA TECNICA COPA LIMA Y FEDERACION C2\n		\n					\n		\n				\n				\n				\n				\n					\n			\n						\n						GUIA TECNICA COPA LIMA Y FEDERACION C2 (ENGLISH)\n		\n					\n		\n				\n				\n				\n				\n					\n			\n						\n						Formulario Inscripcion / Entry Form C2 Lima 2026
URL:https://fedepeci.pe/event/4a-fecha-ranking-nacional-bmx-racing-2025/
CATEGORIES:BMX,Racing
ATTACH;FMTTYPE=image/jpeg:https://fedepeci.pe/wp-content/uploads/2025/02/neventobmx0072.jpg
END:VEVENT
BEGIN:VEVENT
DTSTART;VALUE=DATE:20250601
DTEND;VALUE=DATE:20250602
DTSTAMP:20260421T210232
CREATED:20250509T203304Z
LAST-MODIFIED:20250529T032259Z
UID:13926-1748736000-1748822399@fedepeci.pe
SUMMARY:Segundo Criterium Metropolitano Estadio Nacional
DESCRIPTION:GUIA TECNICA COPA LIMA Y FEDERACION C2\n		\n					\n		\n				\n				\n				\n				\n					\n			\n						\n						GUIA TECNICA COPA LIMA Y FEDERACION C2 (ENGLISH)\n		\n					\n		\n				\n				\n				\n				\n					\n			\n						\n						Formulario Inscripcion / Entry Form C2 Lima 2026
URL:https://fedepeci.pe/event/segundo-criterium-metropolitano-estadio-nacional/
CATEGORIES:Ruta
ATTACH;FMTTYPE=image/jpeg:https://fedepeci.pe/wp-content/uploads/2025/05/neventopista0039.jpg
END:VEVENT
BEGIN:VEVENT
DTSTART;VALUE=DATE:20250612
DTEND;VALUE=DATE:20250613
DTSTAMP:20260421T210233
CREATED:20250210T160353Z
LAST-MODIFIED:20250305T152100Z
UID:13600-1749686400-1749772799@fedepeci.pe
SUMMARY:2A FECHA RANKING NACIONAL E-CYCLING 2025 (VIRTUAL)
DESCRIPTION:GUIA TECNICA COPA LIMA Y FEDERACION C2\n		\n					\n		\n				\n				\n				\n				\n					\n			\n						\n						GUIA TECNICA COPA LIMA Y FEDERACION C2 (ENGLISH)\n		\n					\n		\n				\n				\n				\n				\n					\n			\n						\n						Formulario Inscripcion / Entry Form C2 Lima 2026
URL:https://fedepeci.pe/event/2a-fecha-ranking-nacional-e-cycling-2025/
LOCATION:Virtual
CATEGORIES:E-Cycling
ATTACH;FMTTYPE=image/png:https://fedepeci.pe/wp-content/uploads/2017/09/EventoGEN.png.png
END:VEVENT
BEGIN:VEVENT
DTSTART;VALUE=DATE:20250614
DTEND;VALUE=DATE:20250616
DTSTAMP:20260421T210233
CREATED:20250210T161540Z
LAST-MODIFIED:20250305T152100Z
UID:13615-1749859200-1750031999@fedepeci.pe
SUMMARY:2A FECHA RANKING NACIONAL RUTA 2025
DESCRIPTION:GUIA TECNICA COPA LIMA Y FEDERACION C2\n		\n					\n		\n				\n				\n				\n				\n					\n			\n						\n						GUIA TECNICA COPA LIMA Y FEDERACION C2 (ENGLISH)\n		\n					\n		\n				\n				\n				\n				\n					\n			\n						\n						Formulario Inscripcion / Entry Form C2 Lima 2026
URL:https://fedepeci.pe/event/2a-fecha-ranking-nacional-ruta-2025/
CATEGORIES:Ruta
ATTACH;FMTTYPE=image/png:https://fedepeci.pe/wp-content/uploads/2017/09/EventoGEN.png.png
END:VEVENT
BEGIN:VEVENT
DTSTART;VALUE=DATE:20250622
DTEND;VALUE=DATE:20250623
DTSTAMP:20260421T210233
CREATED:20250210T142114Z
LAST-MODIFIED:20250305T152100Z
UID:13522-1750550400-1750636799@fedepeci.pe
SUMMARY:5a Fecha Ranking Nacional BMX Racing 2025
DESCRIPTION:GUIA TECNICA COPA LIMA Y FEDERACION C2\n		\n					\n		\n				\n				\n				\n				\n					\n			\n						\n						GUIA TECNICA COPA LIMA Y FEDERACION C2 (ENGLISH)\n		\n					\n		\n				\n				\n				\n				\n					\n			\n						\n						Formulario Inscripcion / Entry Form C2 Lima 2026
URL:https://fedepeci.pe/event/5a-fecha-ranking-nacional-bmx-racing-2025/
CATEGORIES:BMX,Racing
ATTACH;FMTTYPE=image/png:https://fedepeci.pe/wp-content/uploads/2017/09/EventoGEN.png.png
END:VEVENT
BEGIN:VEVENT
DTSTART;VALUE=DATE:20250622
DTEND;VALUE=DATE:20250623
DTSTAMP:20260421T210233
CREATED:20250617T201600Z
LAST-MODIFIED:20250617T201725Z
UID:14052-1750550400-1750636799@fedepeci.pe
SUMMARY:4TA FECHA RANKING NACIONAL XCO 2025
DESCRIPTION:GUIA TECNICA COPA LIMA Y FEDERACION C2\n		\n					\n		\n				\n				\n				\n				\n					\n			\n						\n						GUIA TECNICA COPA LIMA Y FEDERACION C2 (ENGLISH)\n		\n					\n		\n				\n				\n				\n				\n					\n			\n						\n						Formulario Inscripcion / Entry Form C2 Lima 2026
URL:https://fedepeci.pe/event/4ta-fecha-ranking-nacional-xco-2025/
LOCATION:Cerro Blanco\, Trujillo
CATEGORIES:MTB,XCO
ATTACH;FMTTYPE=image/jpeg:https://fedepeci.pe/wp-content/uploads/2025/06/neventoxco0015-1.jpg
END:VEVENT
BEGIN:VEVENT
DTSTART;VALUE=DATE:20250628
DTEND;VALUE=DATE:20250630
DTSTAMP:20260421T210233
CREATED:20250210T163036Z
LAST-MODIFIED:20250604T173044Z
UID:13632-1751068800-1751241599@fedepeci.pe
SUMMARY:CAMPEONATO NACIONAL PISTA JUVENIL 2025
DESCRIPTION:GUIA TECNICA COPA LIMA Y FEDERACION C2\n		\n					\n		\n				\n				\n				\n				\n					\n			\n						\n						GUIA TECNICA COPA LIMA Y FEDERACION C2 (ENGLISH)\n		\n					\n		\n				\n				\n				\n				\n					\n			\n						\n						Formulario Inscripcion / Entry Form C2 Lima 2026
URL:https://fedepeci.pe/event/campeonato-nacional-pista-juvenil-2025/
LOCATION:Velodromo de la Videna\, Velodromo de la Videna\, San Luis\, Lima\, Perú
CATEGORIES:Pista
ATTACH;FMTTYPE=image/png:https://fedepeci.pe/wp-content/uploads/2017/09/EventoGEN.png.png
END:VEVENT
BEGIN:VEVENT
DTSTART;VALUE=DATE:20250629
DTEND;VALUE=DATE:20250630
DTSTAMP:20260421T210233
CREATED:20250210T164818Z
LAST-MODIFIED:20250624T164907Z
UID:13648-1751155200-1751241599@fedepeci.pe
SUMMARY:3A FECHA DEL RANKING NACIONAL PAMURI DH 2025
DESCRIPTION:GUIA TECNICA COPA LIMA Y FEDERACION C2\n		\n					\n		\n				\n				\n				\n				\n					\n			\n						\n						GUIA TECNICA COPA LIMA Y FEDERACION C2 (ENGLISH)\n		\n					\n		\n				\n				\n				\n				\n					\n			\n						\n						Formulario Inscripcion / Entry Form C2 Lima 2026
URL:https://fedepeci.pe/event/3a-fecha-del-ranking-nacional-pamuri-dh-2025/
LOCATION:Pamuri
CATEGORIES:DHI,MTB
ATTACH;FMTTYPE=image/jpeg:https://fedepeci.pe/wp-content/uploads/2025/02/bannminipamuri2025.jpg
END:VEVENT
BEGIN:VEVENT
DTSTART;VALUE=DATE:20250706
DTEND;VALUE=DATE:20250707
DTSTAMP:20260421T210233
CREATED:20250210T142833Z
LAST-MODIFIED:20250705T033024Z
UID:13532-1751760000-1751846399@fedepeci.pe
SUMMARY:Campeonato Nacional BMX Racing 2025
DESCRIPTION:GUIA TECNICA COPA LIMA Y FEDERACION C2\n		\n					\n		\n				\n				\n				\n				\n					\n			\n						\n						GUIA TECNICA COPA LIMA Y FEDERACION C2 (ENGLISH)\n		\n					\n		\n				\n				\n				\n				\n					\n			\n						\n						Formulario Inscripcion / Entry Form C2 Lima 2026
URL:https://fedepeci.pe/event/9a-fecha-ranking-nacional-bmx-racing-2025-2/
CATEGORIES:BMX,Racing
ATTACH;FMTTYPE=image/png:https://fedepeci.pe/wp-content/uploads/2017/09/EventoGEN.png.png
END:VEVENT
BEGIN:VEVENT
DTSTART;VALUE=DATE:20250710
DTEND;VALUE=DATE:20250711
DTSTAMP:20260421T210233
CREATED:20250210T160432Z
LAST-MODIFIED:20250305T152059Z
UID:13602-1752105600-1752191999@fedepeci.pe
SUMMARY:3A FECHA RANKING NACIONAL E-CYCLING 2025 (VIRTUAL)
DESCRIPTION:GUIA TECNICA COPA LIMA Y FEDERACION C2\n		\n					\n		\n				\n				\n				\n				\n					\n			\n						\n						GUIA TECNICA COPA LIMA Y FEDERACION C2 (ENGLISH)\n		\n					\n		\n				\n				\n				\n				\n					\n			\n						\n						Formulario Inscripcion / Entry Form C2 Lima 2026
URL:https://fedepeci.pe/event/3a-fecha-ranking-nacional-e-cycling-2025/
LOCATION:Virtual
CATEGORIES:E-Cycling
ATTACH;FMTTYPE=image/png:https://fedepeci.pe/wp-content/uploads/2017/09/EventoGEN.png.png
END:VEVENT
BEGIN:VEVENT
DTSTART;VALUE=DATE:20250713
DTEND;VALUE=DATE:20250714
DTSTAMP:20260421T210233
CREATED:20250605T190552Z
LAST-MODIFIED:20250731T140455Z
UID:14023-1752364800-1752451199@fedepeci.pe
SUMMARY:CAMPEONATO NACIONAL MTB-XCO 2025
DESCRIPTION:GUIA TECNICA COPA LIMA Y FEDERACION C2\n		\n					\n		\n				\n				\n				\n				\n					\n			\n						\n						GUIA TECNICA COPA LIMA Y FEDERACION C2 (ENGLISH)\n		\n					\n		\n				\n				\n				\n				\n					\n			\n						\n						Formulario Inscripcion / Entry Form C2 Lima 2026
URL:https://fedepeci.pe/event/campeonato-nacional-mtb-xco-2025/
LOCATION:Pachacamac
CATEGORIES:MTB,XCO
ATTACH;FMTTYPE=image/jpeg:https://fedepeci.pe/wp-content/uploads/2025/06/neventomtb0015.jpg
END:VEVENT
BEGIN:VEVENT
DTSTART;VALUE=DATE:20250717
DTEND;VALUE=DATE:20250723
DTSTAMP:20260421T210233
CREATED:20250210T163815Z
LAST-MODIFIED:20250605T230515Z
UID:13634-1752710400-1753228799@fedepeci.pe
SUMMARY:CAMPEONATO PANAMERICANO DE PISTA JUNIOR 2025
DESCRIPTION:GUIA TECNICA COPA LIMA Y FEDERACION C2\n		\n					\n		\n				\n				\n				\n				\n					\n			\n						\n						GUIA TECNICA COPA LIMA Y FEDERACION C2 (ENGLISH)\n		\n					\n		\n				\n				\n				\n				\n					\n			\n						\n						Formulario Inscripcion / Entry Form C2 Lima 2026
URL:https://fedepeci.pe/event/campeonato-panamericano-pista-junior-2025/
CATEGORIES:Pista
ATTACH;FMTTYPE=image/jpeg:https://fedepeci.pe/wp-content/uploads/2025/02/neventopista0040.jpg
END:VEVENT
BEGIN:VEVENT
DTSTART;VALUE=DATE:20250720
DTEND;VALUE=DATE:20250721
DTSTAMP:20260421T210233
CREATED:20250210T155612Z
LAST-MODIFIED:20250305T152059Z
UID:13587-1752969600-1753055999@fedepeci.pe
SUMMARY:CAMPEONATO NACIONAL BMX FREESTYLE FLAT 2025
DESCRIPTION:GUIA TECNICA COPA LIMA Y FEDERACION C2\n		\n					\n		\n				\n				\n				\n				\n					\n			\n						\n						GUIA TECNICA COPA LIMA Y FEDERACION C2 (ENGLISH)\n		\n					\n		\n				\n				\n				\n				\n					\n			\n						\n						Formulario Inscripcion / Entry Form C2 Lima 2026
URL:https://fedepeci.pe/event/campeonato-nacional-bmx-freestyle-flat-2025/
LOCATION:Velodromo de la Videna\, Velodromo de la Videna\, San Luis\, Lima\, Perú
CATEGORIES:BMX,Freestyle Flat
ATTACH;FMTTYPE=image/png:https://fedepeci.pe/wp-content/uploads/2017/09/EventoGEN.png.png
END:VEVENT
BEGIN:VEVENT
DTSTART;VALUE=DATE:20250802
DTEND;VALUE=DATE:20250804
DTSTAMP:20260421T210233
CREATED:20250210T163929Z
LAST-MODIFIED:20250703T000552Z
UID:13636-1754092800-1754265599@fedepeci.pe
SUMMARY:CAMPEONATO NACIONAL PISTA ELITE  2025
DESCRIPTION:GUIA TECNICA COPA LIMA Y FEDERACION C2\n		\n					\n		\n				\n				\n				\n				\n					\n			\n						\n						GUIA TECNICA COPA LIMA Y FEDERACION C2 (ENGLISH)\n		\n					\n		\n				\n				\n				\n				\n					\n			\n						\n						Formulario Inscripcion / Entry Form C2 Lima 2026
URL:https://fedepeci.pe/event/campeonato-nacional-pista-elite-2025/
LOCATION:Velodromo de la Videna\, Velodromo de la Videna\, San Luis\, Lima\, Perú
CATEGORIES:Pista
ATTACH;FMTTYPE=image/png:https://fedepeci.pe/wp-content/uploads/2017/09/EventoGEN.png.png
END:VEVENT
END:VCALENDAR