BEGIN:VCALENDAR
VERSION:2.0
PRODID:-//Federación Nacional Deportiva Peruana de Ciclismo - ECPv6.0.5//NONSGML v1.0//EN
CALSCALE:GREGORIAN
METHOD:PUBLISH
X-WR-CALNAME:Federación Nacional Deportiva Peruana de Ciclismo
X-ORIGINAL-URL:https://fedepeci.pe
X-WR-CALDESC:Eventos para Federación Nacional Deportiva Peruana de Ciclismo
REFRESH-INTERVAL;VALUE=DURATION:PT1H
X-Robots-Tag:noindex
X-PUBLISHED-TTL:PT1H
BEGIN:VTIMEZONE
TZID:America/Lima
BEGIN:STANDARD
TZOFFSETFROM:-0500
TZOFFSETTO:-0500
TZNAME:-05
DTSTART:20250101T000000
END:STANDARD
END:VTIMEZONE
BEGIN:VEVENT
DTSTART;VALUE=DATE:20251016
DTEND;VALUE=DATE:20251020
DTSTAMP:20260422T165100
CREATED:20250210T165619Z
LAST-MODIFIED:20250825T231008Z
UID:13657-1760572800-1760918399@fedepeci.pe
SUMMARY:American Series MTB DHI Lima 2025
DESCRIPTION:GUIA TECNICA COPA LIMA Y FEDERACION C2\n		\n					\n		\n				\n				\n				\n				\n					\n			\n						\n						GUIA TECNICA COPA LIMA Y FEDERACION C2 (ENGLISH)\n		\n					\n		\n				\n				\n				\n				\n					\n			\n						\n						Formulario Inscripcion / Entry Form C2 Lima 2026
URL:https://fedepeci.pe/event/american-series-mtb-dh-lima-2025/
LOCATION:Amancay
CATEGORIES:DHI,MTB
ATTACH;FMTTYPE=image/jpeg:https://fedepeci.pe/wp-content/uploads/2025/02/neventodh0040.jpg
END:VEVENT
BEGIN:VEVENT
DTSTART;VALUE=DATE:20251026
DTEND;VALUE=DATE:20251027
DTSTAMP:20260422T165101
CREATED:20250210T142300Z
LAST-MODIFIED:20250305T152012Z
UID:13528-1761436800-1761523199@fedepeci.pe
SUMMARY:8a Fecha Ranking Nacional BMX Racing 2025
DESCRIPTION:GUIA TECNICA COPA LIMA Y FEDERACION C2\n		\n					\n		\n				\n				\n				\n				\n					\n			\n						\n						GUIA TECNICA COPA LIMA Y FEDERACION C2 (ENGLISH)\n		\n					\n		\n				\n				\n				\n				\n					\n			\n						\n						Formulario Inscripcion / Entry Form C2 Lima 2026
URL:https://fedepeci.pe/event/8a-fecha-ranking-nacional-bmx-racing-2025/
CATEGORIES:BMX,Racing
ATTACH;FMTTYPE=image/png:https://fedepeci.pe/wp-content/uploads/2017/09/EventoGEN.png.png
END:VEVENT
BEGIN:VEVENT
DTSTART;VALUE=DATE:20251106
DTEND;VALUE=DATE:20251107
DTSTAMP:20260422T165101
CREATED:20250210T160507Z
LAST-MODIFIED:20250305T152012Z
UID:13604-1762387200-1762473599@fedepeci.pe
SUMMARY:4A FECHA RANKING NACIONAL E-CYCLING 2025 (VIRTUAL)
DESCRIPTION:GUIA TECNICA COPA LIMA Y FEDERACION C2\n		\n					\n		\n				\n				\n				\n				\n					\n			\n						\n						GUIA TECNICA COPA LIMA Y FEDERACION C2 (ENGLISH)\n		\n					\n		\n				\n				\n				\n				\n					\n			\n						\n						Formulario Inscripcion / Entry Form C2 Lima 2026
URL:https://fedepeci.pe/event/4a-fecha-ranking-nacional-e-cycling-2025/
LOCATION:Virtual
CATEGORIES:E-Cycling
ATTACH;FMTTYPE=image/png:https://fedepeci.pe/wp-content/uploads/2017/09/EventoGEN.png.png
END:VEVENT
BEGIN:VEVENT
DTSTART;VALUE=DATE:20251109
DTEND;VALUE=DATE:20251110
DTSTAMP:20260422T165101
CREATED:20250210T142324Z
LAST-MODIFIED:20250305T151950Z
UID:13530-1762646400-1762732799@fedepeci.pe
SUMMARY:9a Fecha Ranking Nacional BMX Racing 2025
DESCRIPTION:GUIA TECNICA COPA LIMA Y FEDERACION C2\n		\n					\n		\n				\n				\n				\n				\n					\n			\n						\n						GUIA TECNICA COPA LIMA Y FEDERACION C2 (ENGLISH)\n		\n					\n		\n				\n				\n				\n				\n					\n			\n						\n						Formulario Inscripcion / Entry Form C2 Lima 2026
URL:https://fedepeci.pe/event/9a-fecha-ranking-nacional-bmx-racing-2025/
CATEGORIES:BMX,Racing
ATTACH;FMTTYPE=image/png:https://fedepeci.pe/wp-content/uploads/2017/09/EventoGEN.png.png
END:VEVENT
BEGIN:VEVENT
DTSTART;VALUE=DATE:20251109
DTEND;VALUE=DATE:20251110
DTSTAMP:20260422T165101
CREATED:20250210T165217Z
LAST-MODIFIED:20250305T151945Z
UID:13652-1762646400-1762732799@fedepeci.pe
SUMMARY:4A FECHA DEL RANKING NACIONAL MOLLEBAYA DH 2025
DESCRIPTION:GUIA TECNICA COPA LIMA Y FEDERACION C2\n		\n					\n		\n				\n				\n				\n				\n					\n			\n						\n						GUIA TECNICA COPA LIMA Y FEDERACION C2 (ENGLISH)\n		\n					\n		\n				\n				\n				\n				\n					\n			\n						\n						Formulario Inscripcion / Entry Form C2 Lima 2026
URL:https://fedepeci.pe/event/4a-fecha-del-ranking-nacional-porcon-dh-2025/
LOCATION:Arequipa
CATEGORIES:DHI,MTB
ATTACH;FMTTYPE=image/png:https://fedepeci.pe/wp-content/uploads/2017/09/EventoGEN.png.png
END:VEVENT
BEGIN:VEVENT
DTSTART;VALUE=DATE:20251122
DTEND;VALUE=DATE:20251208
DTSTAMP:20260422T165101
CREATED:20250210T154758Z
LAST-MODIFIED:20250305T151938Z
UID:13574-1763769600-1765151999@fedepeci.pe
SUMMARY:JUEGOS PANAMERICANOS BMX PARK 2025
DESCRIPTION:GUIA TECNICA COPA LIMA Y FEDERACION C2\n		\n					\n		\n				\n				\n				\n				\n					\n			\n						\n						GUIA TECNICA COPA LIMA Y FEDERACION C2 (ENGLISH)\n		\n					\n		\n				\n				\n				\n				\n					\n			\n						\n						Formulario Inscripcion / Entry Form C2 Lima 2026
URL:https://fedepeci.pe/event/juegos-panamericanos-bmx-park-2025/
CATEGORIES:BMX,Freestyle Park
ATTACH;FMTTYPE=image/png:https://fedepeci.pe/wp-content/uploads/2017/09/EventoGEN.png.png
END:VEVENT
BEGIN:VEVENT
DTSTART;VALUE=DATE:20251122
DTEND;VALUE=DATE:20251208
DTSTAMP:20260422T165101
CREATED:20250210T161729Z
LAST-MODIFIED:20250305T151933Z
UID:13619-1763769600-1765151999@fedepeci.pe
SUMMARY:JUEGOS PANAMERICANOS RUTA 2025
DESCRIPTION:GUIA TECNICA COPA LIMA Y FEDERACION C2\n		\n					\n		\n				\n				\n				\n				\n					\n			\n						\n						GUIA TECNICA COPA LIMA Y FEDERACION C2 (ENGLISH)\n		\n					\n		\n				\n				\n				\n				\n					\n			\n						\n						Formulario Inscripcion / Entry Form C2 Lima 2026
URL:https://fedepeci.pe/event/juegos-panamericanos-ruta-2025/
CATEGORIES:Ruta
ATTACH;FMTTYPE=image/png:https://fedepeci.pe/wp-content/uploads/2017/09/EventoGEN.png.png
END:VEVENT
BEGIN:VEVENT
DTSTART;VALUE=DATE:20251122
DTEND;VALUE=DATE:20251208
DTSTAMP:20260422T165101
CREATED:20250210T164104Z
LAST-MODIFIED:20250305T151929Z
UID:13639-1763769600-1765151999@fedepeci.pe
SUMMARY:JUEGOS PANAMERICANOS PISTA 2025
DESCRIPTION:GUIA TECNICA COPA LIMA Y FEDERACION C2\n		\n					\n		\n				\n				\n				\n				\n					\n			\n						\n						GUIA TECNICA COPA LIMA Y FEDERACION C2 (ENGLISH)\n		\n					\n		\n				\n				\n				\n				\n					\n			\n						\n						Formulario Inscripcion / Entry Form C2 Lima 2026
URL:https://fedepeci.pe/event/juegos-panamericanos-pista-2025/
CATEGORIES:Pista
ATTACH;FMTTYPE=image/png:https://fedepeci.pe/wp-content/uploads/2017/09/EventoGEN.png.png
END:VEVENT
BEGIN:VEVENT
DTSTART;VALUE=DATE:20251123
DTEND;VALUE=DATE:20251124
DTSTAMP:20260422T165101
CREATED:20250210T155525Z
LAST-MODIFIED:20250305T151924Z
UID:13585-1763856000-1763942399@fedepeci.pe
SUMMARY:3A FECHA RANKING NACIONAL BMX FREESTYLE FLAT 2025
DESCRIPTION:GUIA TECNICA COPA LIMA Y FEDERACION C2\n		\n					\n		\n				\n				\n				\n				\n					\n			\n						\n						GUIA TECNICA COPA LIMA Y FEDERACION C2 (ENGLISH)\n		\n					\n		\n				\n				\n				\n				\n					\n			\n						\n						Formulario Inscripcion / Entry Form C2 Lima 2026
URL:https://fedepeci.pe/event/3a-fecha-ranking-nacional-bmx-freestyle-flat-2025/
LOCATION:Velodromo de la Videna\, Velodromo de la Videna\, San Luis\, Lima\, Perú
CATEGORIES:BMX,Freestyle Flat
ATTACH;FMTTYPE=image/png:https://fedepeci.pe/wp-content/uploads/2017/09/EventoGEN.png.png
END:VEVENT
BEGIN:VEVENT
DTSTART;VALUE=DATE:20251207
DTEND;VALUE=DATE:20251208
DTSTAMP:20260422T165101
CREATED:20250210T165350Z
LAST-MODIFIED:20250305T151918Z
UID:13654-1765065600-1765151999@fedepeci.pe
SUMMARY:5A FECHA DEL RANKING NACIONAL COPA DH 2025
DESCRIPTION:GUIA TECNICA COPA LIMA Y FEDERACION C2\n		\n					\n		\n				\n				\n				\n				\n					\n			\n						\n						GUIA TECNICA COPA LIMA Y FEDERACION C2 (ENGLISH)\n		\n					\n		\n				\n				\n				\n				\n					\n			\n						\n						Formulario Inscripcion / Entry Form C2 Lima 2026
URL:https://fedepeci.pe/event/5a-fecha-del-ranking-nacional-copa-dh-2025/
LOCATION:Amancay
CATEGORIES:DHI,MTB
ATTACH;FMTTYPE=image/png:https://fedepeci.pe/wp-content/uploads/2017/09/EventoGEN.png.png
END:VEVENT
BEGIN:VEVENT
DTSTART;VALUE=DATE:20260208
DTEND;VALUE=DATE:20260209
DTSTAMP:20260422T165101
CREATED:20260106T154048Z
LAST-MODIFIED:20260201T152101Z
UID:14356-1770508800-1770595199@fedepeci.pe
SUMMARY:1ra Válida Ranking Nacional XCO (Lima) Ventanilla
DESCRIPTION:GUIA TECNICA COPA LIMA Y FEDERACION C2\n		\n					\n		\n				\n				\n				\n				\n					\n			\n						\n						GUIA TECNICA COPA LIMA Y FEDERACION C2 (ENGLISH)\n		\n					\n		\n				\n				\n				\n				\n					\n			\n						\n						Formulario Inscripcion / Entry Form C2 Lima 2026
URL:https://fedepeci.pe/event/1ra-valida-ranking-nacional-xco-lima-ventanilla/
CATEGORIES:MTB,XCO
ATTACH;FMTTYPE=image/png:https://fedepeci.pe/wp-content/uploads/2017/09/EventoGEN.png.png
END:VEVENT
BEGIN:VEVENT
DTSTART;VALUE=DATE:20260301
DTEND;VALUE=DATE:20260302
DTSTAMP:20260422T165101
CREATED:20260106T154153Z
LAST-MODIFIED:20260201T152236Z
UID:14358-1772323200-1772409599@fedepeci.pe
SUMMARY:2da Válida Ranking Nacional XCO (Yungay)
DESCRIPTION:GUIA TECNICA COPA LIMA Y FEDERACION C2\n		\n					\n		\n				\n				\n				\n				\n					\n			\n						\n						GUIA TECNICA COPA LIMA Y FEDERACION C2 (ENGLISH)\n		\n					\n		\n				\n				\n				\n				\n					\n			\n						\n						Formulario Inscripcion / Entry Form C2 Lima 2026
URL:https://fedepeci.pe/event/2da-valida-ranking-nacional-xco-yungay/
CATEGORIES:MTB,XCO
ATTACH;FMTTYPE=image/png:https://fedepeci.pe/wp-content/uploads/2017/09/EventoGEN.png.png
END:VEVENT
BEGIN:VEVENT
DTSTART;VALUE=DATE:20260315
DTEND;VALUE=DATE:20260316
DTSTAMP:20260422T165101
CREATED:20260106T135306Z
LAST-MODIFIED:20260227T140413Z
UID:14308-1773532800-1773619199@fedepeci.pe
SUMMARY:1era Válida ranking Nacional Criterium Lima
DESCRIPTION:GUIA TECNICA COPA LIMA Y FEDERACION C2\n		\n					\n		\n				\n				\n				\n				\n					\n			\n						\n						GUIA TECNICA COPA LIMA Y FEDERACION C2 (ENGLISH)\n		\n					\n		\n				\n				\n				\n				\n					\n			\n						\n						Formulario Inscripcion / Entry Form C2 Lima 2026
URL:https://fedepeci.pe/event/1era-valida-ranking-nacional-criterium-lima/
CATEGORIES:Ruta
ATTACH;FMTTYPE=image/jpeg:https://fedepeci.pe/wp-content/uploads/2026/01/banner1aFechaCriterium.jpg
END:VEVENT
BEGIN:VEVENT
DTSTART;VALUE=DATE:20260328
DTEND;VALUE=DATE:20260330
DTSTAMP:20260422T165101
CREATED:20260106T150840Z
LAST-MODIFIED:20260201T152229Z
UID:14332-1774656000-1774828799@fedepeci.pe
SUMMARY:1ra Válida Ranking Nacional DH (Arequipa)
DESCRIPTION:GUIA TECNICA COPA LIMA Y FEDERACION C2\n		\n					\n		\n				\n				\n				\n				\n					\n			\n						\n						GUIA TECNICA COPA LIMA Y FEDERACION C2 (ENGLISH)\n		\n					\n		\n				\n				\n				\n				\n					\n			\n						\n						Formulario Inscripcion / Entry Form C2 Lima 2026
URL:https://fedepeci.pe/event/1a-valida-ranking-nacional-dh-arequipa/
CATEGORIES:DHI,MTB
ATTACH;FMTTYPE=image/png:https://fedepeci.pe/wp-content/uploads/2017/09/EventoGEN.png.png
END:VEVENT
BEGIN:VEVENT
DTSTART;VALUE=DATE:20260418
DTEND;VALUE=DATE:20260420
DTSTAMP:20260422T165101
CREATED:20260327T193946Z
LAST-MODIFIED:20260407T150544Z
UID:14427-1776470400-1776643199@fedepeci.pe
SUMMARY:CAMPEONATO NACIONAL DE RUTA  JUVENIL - MASTER 2026
DESCRIPTION:GUIA TECNICA COPA LIMA Y FEDERACION C2\n		\n					\n		\n				\n				\n				\n				\n					\n			\n						\n						GUIA TECNICA COPA LIMA Y FEDERACION C2 (ENGLISH)\n		\n					\n		\n				\n				\n				\n				\n					\n			\n						\n						Formulario Inscripcion / Entry Form C2 Lima 2026
URL:https://fedepeci.pe/event/campeonato-nacional-de-ruta-juvenil-master/
CATEGORIES:Ruta
ATTACH;FMTTYPE=image/png:https://fedepeci.pe/wp-content/uploads/2017/09/EventoGEN.png.png
END:VEVENT
BEGIN:VEVENT
DTSTART;VALUE=DATE:20260421
DTEND;VALUE=DATE:20260427
DTSTAMP:20260422T165101
CREATED:20260106T151728Z
LAST-MODIFIED:20260324T203539Z
UID:14343-1776729600-1777247999@fedepeci.pe
SUMMARY:American Series DHI 2026 Santisimo\, Cusco
DESCRIPTION:GUIA TECNICA COPA LIMA Y FEDERACION C2\n		\n					\n		\n				\n				\n				\n				\n					\n			\n						\n						GUIA TECNICA COPA LIMA Y FEDERACION C2 (ENGLISH)\n		\n					\n		\n				\n				\n				\n				\n					\n			\n						\n						Formulario Inscripcion / Entry Form C2 Lima 2026
URL:https://fedepeci.pe/event/5ta-valida-ranking-nacional-dh-amancay-2/
CATEGORIES:DHI,MTB
ATTACH;FMTTYPE=image/jpeg:https://fedepeci.pe/wp-content/uploads/2026/01/neventomtb0016.jpg
END:VEVENT
BEGIN:VEVENT
DTSTART;VALUE=DATE:20260522
DTEND;VALUE=DATE:20260525
DTSTAMP:20260422T165101
CREATED:20260408T200222Z
LAST-MODIFIED:20260416T044302Z
UID:14446-1779408000-1779667199@fedepeci.pe
SUMMARY:Copa Lima de Pista C2 y la Copa Federación de Pista C2
DESCRIPTION:GUIA TECNICA COPA LIMA Y FEDERACION C2\n		\n					\n		\n				\n				\n				\n				\n					\n			\n						\n						GUIA TECNICA COPA LIMA Y FEDERACION C2 (ENGLISH)\n		\n					\n		\n				\n				\n				\n				\n					\n			\n						\n						Formulario Inscripcion / Entry Form C2 Lima 2026
URL:https://fedepeci.pe/event/copa-lima-de-pista-c2-y-la-copa-federacion-de-pista-c2/
CATEGORIES:Pista
ATTACH;FMTTYPE=image/png:https://fedepeci.pe/wp-content/uploads/2026/04/neventopista0041.png
END:VEVENT
BEGIN:VEVENT
DTSTART;VALUE=DATE:20260523
DTEND;VALUE=DATE:20260525
DTSTAMP:20260422T165101
CREATED:20260106T154337Z
LAST-MODIFIED:20260201T152219Z
UID:14361-1779494400-1779667199@fedepeci.pe
SUMMARY:3ra Válida Ranking Nacional XCO (Rimm)
DESCRIPTION:GUIA TECNICA COPA LIMA Y FEDERACION C2\n		\n					\n		\n				\n				\n				\n				\n					\n			\n						\n						GUIA TECNICA COPA LIMA Y FEDERACION C2 (ENGLISH)\n		\n					\n		\n				\n				\n				\n				\n					\n			\n						\n						Formulario Inscripcion / Entry Form C2 Lima 2026
URL:https://fedepeci.pe/event/3ra-valida-ranking-nacional-xco-rimm/
CATEGORIES:MTB,XCO
ATTACH;FMTTYPE=image/png:https://fedepeci.pe/wp-content/uploads/2017/09/EventoGEN.png.png
END:VEVENT
BEGIN:VEVENT
DTSTART;VALUE=DATE:20260613
DTEND;VALUE=DATE:20260615
DTSTAMP:20260422T165102
CREATED:20260106T151012Z
LAST-MODIFIED:20260201T152214Z
UID:14334-1781308800-1781481599@fedepeci.pe
SUMMARY:2da Válida Ranking Nacional DH (Andahuaylas)
DESCRIPTION:GUIA TECNICA COPA LIMA Y FEDERACION C2\n		\n					\n		\n				\n				\n				\n				\n					\n			\n						\n						GUIA TECNICA COPA LIMA Y FEDERACION C2 (ENGLISH)\n		\n					\n		\n				\n				\n				\n				\n					\n			\n						\n						Formulario Inscripcion / Entry Form C2 Lima 2026
URL:https://fedepeci.pe/event/2da-valida-ranking-nacional-dh-andahuaylas/
CATEGORIES:DHI,MTB
ATTACH;FMTTYPE=image/png:https://fedepeci.pe/wp-content/uploads/2017/09/EventoGEN.png.png
END:VEVENT
BEGIN:VEVENT
DTSTART;VALUE=DATE:20260621
DTEND;VALUE=DATE:20260622
DTSTAMP:20260422T165102
CREATED:20260106T154516Z
LAST-MODIFIED:20260201T152209Z
UID:14363-1782000000-1782086399@fedepeci.pe
SUMMARY:4ta Válida Ranking Nacional XCO (Arequipa)
DESCRIPTION:GUIA TECNICA COPA LIMA Y FEDERACION C2\n		\n					\n		\n				\n				\n				\n				\n					\n			\n						\n						GUIA TECNICA COPA LIMA Y FEDERACION C2 (ENGLISH)\n		\n					\n		\n				\n				\n				\n				\n					\n			\n						\n						Formulario Inscripcion / Entry Form C2 Lima 2026
URL:https://fedepeci.pe/event/4ta-valida-ranking-nacional-xco-arequipa/
CATEGORIES:MTB,XCO
ATTACH;FMTTYPE=image/png:https://fedepeci.pe/wp-content/uploads/2017/09/EventoGEN.png.png
END:VEVENT
BEGIN:VEVENT
DTSTART;VALUE=DATE:20260711
DTEND;VALUE=DATE:20260713
DTSTAMP:20260422T165102
CREATED:20260106T151220Z
LAST-MODIFIED:20260201T152204Z
UID:14337-1783728000-1783900799@fedepeci.pe
SUMMARY:3ra Válida Ranking Nacional DH (Cusco)
DESCRIPTION:GUIA TECNICA COPA LIMA Y FEDERACION C2\n		\n					\n		\n				\n				\n				\n				\n					\n			\n						\n						GUIA TECNICA COPA LIMA Y FEDERACION C2 (ENGLISH)\n		\n					\n		\n				\n				\n				\n				\n					\n			\n						\n						Formulario Inscripcion / Entry Form C2 Lima 2026
URL:https://fedepeci.pe/event/3ra-valida-ranking-nacional-dh-cusco/
CATEGORIES:DHI,MTB
ATTACH;FMTTYPE=image/png:https://fedepeci.pe/wp-content/uploads/2017/09/EventoGEN.png.png
END:VEVENT
BEGIN:VEVENT
DTSTART;VALUE=DATE:20260712
DTEND;VALUE=DATE:20260713
DTSTAMP:20260422T165102
CREATED:20260106T135456Z
LAST-MODIFIED:20260106T135733Z
UID:14312-1783814400-1783900799@fedepeci.pe
SUMMARY:2da Válida ranking Nacional Criterium Chiclayo
DESCRIPTION:GUIA TECNICA COPA LIMA Y FEDERACION C2\n		\n					\n		\n				\n				\n				\n				\n					\n			\n						\n						GUIA TECNICA COPA LIMA Y FEDERACION C2 (ENGLISH)\n		\n					\n		\n				\n				\n				\n				\n					\n			\n						\n						Formulario Inscripcion / Entry Form C2 Lima 2026
URL:https://fedepeci.pe/event/2da-valida-ranking-nacional-criterium-chiclayo/
CATEGORIES:Ruta
ATTACH;FMTTYPE=image/png:https://fedepeci.pe/wp-content/uploads/2017/09/EventoGEN.png.png
END:VEVENT
BEGIN:VEVENT
DTSTART;VALUE=DATE:20260814
DTEND;VALUE=DATE:20260816
DTSTAMP:20260422T165102
CREATED:20260106T151338Z
LAST-MODIFIED:20260201T152142Z
UID:14339-1786665600-1786838399@fedepeci.pe
SUMMARY:4ta Válida Ranking Nacional DH (Cajamarca)
DESCRIPTION:GUIA TECNICA COPA LIMA Y FEDERACION C2\n		\n					\n		\n				\n				\n				\n				\n					\n			\n						\n						GUIA TECNICA COPA LIMA Y FEDERACION C2 (ENGLISH)\n		\n					\n		\n				\n				\n				\n				\n					\n			\n						\n						Formulario Inscripcion / Entry Form C2 Lima 2026
URL:https://fedepeci.pe/event/4ta-valida-ranking-nacional-dh-cajamarca/
CATEGORIES:DHI,MTB
ATTACH;FMTTYPE=image/png:https://fedepeci.pe/wp-content/uploads/2017/09/EventoGEN.png.png
END:VEVENT
BEGIN:VEVENT
DTSTART;VALUE=DATE:20260823
DTEND;VALUE=DATE:20260824
DTSTAMP:20260422T165102
CREATED:20260106T154603Z
LAST-MODIFIED:20260201T152137Z
UID:14365-1787443200-1787529599@fedepeci.pe
SUMMARY:5ta Válida Ranking Nacional XCO (Cusco)
DESCRIPTION:GUIA TECNICA COPA LIMA Y FEDERACION C2\n		\n					\n		\n				\n				\n				\n				\n					\n			\n						\n						GUIA TECNICA COPA LIMA Y FEDERACION C2 (ENGLISH)\n		\n					\n		\n				\n				\n				\n				\n					\n			\n						\n						Formulario Inscripcion / Entry Form C2 Lima 2026
URL:https://fedepeci.pe/event/5ta-valida-ranking-nacional-xco-cusco/
CATEGORIES:MTB,XCO
ATTACH;FMTTYPE=image/png:https://fedepeci.pe/wp-content/uploads/2017/09/EventoGEN.png.png
END:VEVENT
BEGIN:VEVENT
DTSTART;VALUE=DATE:20260830
DTEND;VALUE=DATE:20260831
DTSTAMP:20260422T165102
CREATED:20260106T135658Z
LAST-MODIFIED:20260106T135658Z
UID:14315-1788048000-1788134399@fedepeci.pe
SUMMARY:3ra Válida ranking Nacional Criterium Chacra Rios
DESCRIPTION:GUIA TECNICA COPA LIMA Y FEDERACION C2\n		\n					\n		\n				\n				\n				\n				\n					\n			\n						\n						GUIA TECNICA COPA LIMA Y FEDERACION C2 (ENGLISH)\n		\n					\n		\n				\n				\n				\n				\n					\n			\n						\n						Formulario Inscripcion / Entry Form C2 Lima 2026
URL:https://fedepeci.pe/event/2da-valida-ranking-nacional-criterium-chacra-rios/
CATEGORIES:Ruta
ATTACH;FMTTYPE=image/png:https://fedepeci.pe/wp-content/uploads/2017/09/EventoGEN.png.png
END:VEVENT
BEGIN:VEVENT
DTSTART;VALUE=DATE:20260920
DTEND;VALUE=DATE:20260921
DTSTAMP:20260422T165102
CREATED:20260106T135814Z
LAST-MODIFIED:20260106T135814Z
UID:14317-1789862400-1789948799@fedepeci.pe
SUMMARY:4ta Válida ranking Nacional Criterium Chiclayo
DESCRIPTION:GUIA TECNICA COPA LIMA Y FEDERACION C2\n		\n					\n		\n				\n				\n				\n				\n					\n			\n						\n						GUIA TECNICA COPA LIMA Y FEDERACION C2 (ENGLISH)\n		\n					\n		\n				\n				\n				\n				\n					\n			\n						\n						Formulario Inscripcion / Entry Form C2 Lima 2026
URL:https://fedepeci.pe/event/4ta-valida-ranking-nacional-criterium-chiclayo/
CATEGORIES:Ruta
ATTACH;FMTTYPE=image/png:https://fedepeci.pe/wp-content/uploads/2017/09/EventoGEN.png.png
END:VEVENT
BEGIN:VEVENT
DTSTART;VALUE=DATE:20260926
DTEND;VALUE=DATE:20260928
DTSTAMP:20260422T165102
CREATED:20260106T151405Z
LAST-MODIFIED:20260201T152118Z
UID:14341-1790380800-1790553599@fedepeci.pe
SUMMARY:5ta Válida Ranking Nacional DH (Amancay)
DESCRIPTION:GUIA TECNICA COPA LIMA Y FEDERACION C2\n		\n					\n		\n				\n				\n				\n				\n					\n			\n						\n						GUIA TECNICA COPA LIMA Y FEDERACION C2 (ENGLISH)\n		\n					\n		\n				\n				\n				\n				\n					\n			\n						\n						Formulario Inscripcion / Entry Form C2 Lima 2026
URL:https://fedepeci.pe/event/5ta-valida-ranking-nacional-dh-amancay/
CATEGORIES:DHI,MTB
ATTACH;FMTTYPE=image/png:https://fedepeci.pe/wp-content/uploads/2017/09/EventoGEN.png.png
END:VEVENT
BEGIN:VEVENT
DTSTART;VALUE=DATE:20261018
DTEND;VALUE=DATE:20261019
DTSTAMP:20260422T165102
CREATED:20260106T135919Z
LAST-MODIFIED:20260106T135919Z
UID:14319-1792281600-1792367999@fedepeci.pe
SUMMARY:5ta Válida ranking Nacional Criterium Lima
DESCRIPTION:GUIA TECNICA COPA LIMA Y FEDERACION C2\n		\n					\n		\n				\n				\n				\n				\n					\n			\n						\n						GUIA TECNICA COPA LIMA Y FEDERACION C2 (ENGLISH)\n		\n					\n		\n				\n				\n				\n				\n					\n			\n						\n						Formulario Inscripcion / Entry Form C2 Lima 2026
URL:https://fedepeci.pe/event/5ta-valida-ranking-nacional-criterium-lima/
CATEGORIES:Ruta
ATTACH;FMTTYPE=image/png:https://fedepeci.pe/wp-content/uploads/2017/09/EventoGEN.png.png
END:VEVENT
END:VCALENDAR