BEGIN:VCALENDAR
VERSION:2.0
PRODID:-//Federación Nacional Deportiva Peruana de Ciclismo - ECPv6.0.5//NONSGML v1.0//EN
CALSCALE:GREGORIAN
METHOD:PUBLISH
X-ORIGINAL-URL:https://fedepeci.pe
X-WR-CALDESC:Eventos para Federación Nacional Deportiva Peruana de Ciclismo
REFRESH-INTERVAL;VALUE=DURATION:PT1H
X-Robots-Tag:noindex
X-PUBLISHED-TTL:PT1H
BEGIN:VTIMEZONE
TZID:America/Lima
BEGIN:STANDARD
TZOFFSETFROM:-0500
TZOFFSETTO:-0500
TZNAME:-05
DTSTART:20240101T000000
END:STANDARD
END:VTIMEZONE
BEGIN:VEVENT
DTSTART;VALUE=DATE:20240413
DTEND;VALUE=DATE:20240415
DTSTAMP:20260422T100800
CREATED:20240110T210927Z
LAST-MODIFIED:20250305T152155Z
UID:12040-1712966400-1713139199@fedepeci.pe
SUMMARY:2DA VALIDA NACIONAL XCC-XCO
DESCRIPTION:GUIA TECNICA COPA LIMA Y FEDERACION C2\n		\n					\n		\n				\n				\n				\n				\n					\n			\n						\n						GUIA TECNICA COPA LIMA Y FEDERACION C2 (ENGLISH)\n		\n					\n		\n				\n				\n				\n				\n					\n			\n						\n						Formulario Inscripcion / Entry Form C2 Lima 2026
URL:https://fedepeci.pe/event/2da-valida-nacional-xcc-xco-2024/
LOCATION:Huacho
CATEGORIES:MTB,XCO
ATTACH;FMTTYPE=image/png:https://fedepeci.pe/wp-content/uploads/2017/09/EventoGEN.png.png
END:VEVENT
BEGIN:VEVENT
DTSTART;VALUE=DATE:20240421
DTEND;VALUE=DATE:20240422
DTSTAMP:20260422T100800
CREATED:20231215T144616Z
LAST-MODIFIED:20250305T152155Z
UID:11795-1713657600-1713743999@fedepeci.pe
SUMMARY:2a Fecha del Ranking Nacional BMX Racing 2024
DESCRIPTION:GUIA TECNICA COPA LIMA Y FEDERACION C2\n		\n					\n		\n				\n				\n				\n				\n					\n			\n						\n						GUIA TECNICA COPA LIMA Y FEDERACION C2 (ENGLISH)\n		\n					\n		\n				\n				\n				\n				\n					\n			\n						\n						Formulario Inscripcion / Entry Form C2 Lima 2026
URL:https://fedepeci.pe/event/2a-fecha-del-ranking-nacional-bmx-racing-2024/
LOCATION:Circuito San Miguel
CATEGORIES:BMX,Racing
ATTACH;FMTTYPE=image/png:https://fedepeci.pe/wp-content/uploads/2017/09/EventoGEN.png.png
END:VEVENT
BEGIN:VEVENT
DTSTART;VALUE=DATE:20240421
DTEND;VALUE=DATE:20240422
DTSTAMP:20260422T100800
CREATED:20231227T205220Z
LAST-MODIFIED:20250305T152155Z
UID:11880-1713657600-1713743999@fedepeci.pe
SUMMARY:2DA FECHA RANKING NACIONAL DH 2024 CUSCO
DESCRIPTION:GUIA TECNICA COPA LIMA Y FEDERACION C2\n		\n					\n		\n				\n				\n				\n				\n					\n			\n						\n						GUIA TECNICA COPA LIMA Y FEDERACION C2 (ENGLISH)\n		\n					\n		\n				\n				\n				\n				\n					\n			\n						\n						Formulario Inscripcion / Entry Form C2 Lima 2026
URL:https://fedepeci.pe/event/2da-fecha-ranking-nacional-dh-2024-cusco/
CATEGORIES:DHI,MTB
ATTACH;FMTTYPE=image/png:https://fedepeci.pe/wp-content/uploads/2017/09/EventoGEN.png.png
END:VEVENT
BEGIN:VEVENT
DTSTART;VALUE=DATE:20240421
DTEND;VALUE=DATE:20240422
DTSTAMP:20260422T100800
CREATED:20240110T200049Z
LAST-MODIFIED:20250305T152155Z
UID:11968-1713657600-1713743999@fedepeci.pe
SUMMARY:2DA FECHA RANKING NACIONAL BMX FREESTYLE
DESCRIPTION:GUIA TECNICA COPA LIMA Y FEDERACION C2\n		\n					\n		\n				\n				\n				\n				\n					\n			\n						\n						GUIA TECNICA COPA LIMA Y FEDERACION C2 (ENGLISH)\n		\n					\n		\n				\n				\n				\n				\n					\n			\n						\n						Formulario Inscripcion / Entry Form C2 Lima 2026
URL:https://fedepeci.pe/event/2da-fecha-ranking-nacional-bmx-freestyle-2024/
LOCATION:Circuito San Miguel
CATEGORIES:BMX,Freestyle Park
ATTACH;FMTTYPE=image/png:https://fedepeci.pe/wp-content/uploads/2017/09/EventoGEN.png.png
END:VEVENT
BEGIN:VEVENT
DTSTART;VALUE=DATE:20240421
DTEND;VALUE=DATE:20240422
DTSTAMP:20260422T100800
CREATED:20240110T204338Z
LAST-MODIFIED:20250305T152155Z
UID:12016-1713657600-1713743999@fedepeci.pe
SUMMARY:2DA FECHA RANKING NACIONAL PISTA JUVENIL
DESCRIPTION:GUIA TECNICA COPA LIMA Y FEDERACION C2\n		\n					\n		\n				\n				\n				\n				\n					\n			\n						\n						GUIA TECNICA COPA LIMA Y FEDERACION C2 (ENGLISH)\n		\n					\n		\n				\n				\n				\n				\n					\n			\n						\n						Formulario Inscripcion / Entry Form C2 Lima 2026
URL:https://fedepeci.pe/event/2da-fecha-ranking-nacional-pista-2024/
LOCATION:Velodromo de la Videna\, Velodromo de la Videna\, San Luis\, Lima\, Perú
CATEGORIES:Pista
ATTACH;FMTTYPE=image/jpeg:https://fedepeci.pe/wp-content/uploads/2024/01/neventopista0034.jpg
END:VEVENT
END:VCALENDAR