BEGIN:VCALENDAR
VERSION:2.0
PRODID:-//Federación Nacional Deportiva Peruana de Ciclismo - ECPv6.0.5//NONSGML v1.0//EN
CALSCALE:GREGORIAN
METHOD:PUBLISH
X-WR-CALNAME:Federación Nacional Deportiva Peruana de Ciclismo
X-ORIGINAL-URL:https://fedepeci.pe
X-WR-CALDESC:Eventos para Federación Nacional Deportiva Peruana de Ciclismo
REFRESH-INTERVAL;VALUE=DURATION:PT1H
X-Robots-Tag:noindex
X-PUBLISHED-TTL:PT1H
BEGIN:VTIMEZONE
TZID:America/Lima
BEGIN:STANDARD
TZOFFSETFROM:-0500
TZOFFSETTO:-0500
TZNAME:-05
DTSTART:20240101T000000
END:STANDARD
END:VTIMEZONE
BEGIN:VEVENT
DTSTART;VALUE=DATE:20240608
DTEND;VALUE=DATE:20240610
DTSTAMP:20260422T070430
CREATED:20240110T211104Z
LAST-MODIFIED:20250305T152155Z
UID:12042-1717804800-1717977599@fedepeci.pe
SUMMARY:3RA VALIDA NACIONAL XCC-XCO
DESCRIPTION:GUIA TECNICA COPA LIMA Y FEDERACION C2\n		\n					\n		\n				\n				\n				\n				\n					\n			\n						\n						GUIA TECNICA COPA LIMA Y FEDERACION C2 (ENGLISH)\n		\n					\n		\n				\n				\n				\n				\n					\n			\n						\n						Formulario Inscripcion / Entry Form C2 Lima 2026
URL:https://fedepeci.pe/event/3ra-valida-nacional-xcc-xco-2024/
LOCATION:Trujillo
CATEGORIES:MTB,XCO
ATTACH;FMTTYPE=image/png:https://fedepeci.pe/wp-content/uploads/2017/09/EventoGEN.png.png
END:VEVENT
BEGIN:VEVENT
DTSTART;VALUE=DATE:20240609
DTEND;VALUE=DATE:20240610
DTSTAMP:20260422T070430
CREATED:20240110T201630Z
LAST-MODIFIED:20250305T152155Z
UID:11988-1717891200-1717977599@fedepeci.pe
SUMMARY:2DA FECHA RANKING NACIONAL BMX FREESTYLE FLAT
DESCRIPTION:GUIA TECNICA COPA LIMA Y FEDERACION C2\n		\n					\n		\n				\n				\n				\n				\n					\n			\n						\n						GUIA TECNICA COPA LIMA Y FEDERACION C2 (ENGLISH)\n		\n					\n		\n				\n				\n				\n				\n					\n			\n						\n						Formulario Inscripcion / Entry Form C2 Lima 2026
URL:https://fedepeci.pe/event/2da-fecha-ranking-nacional-bmx-freestyle-flat-2024/
LOCATION:Velodromo de la Videna\, Velodromo de la Videna\, San Luis\, Lima\, Perú
CATEGORIES:BMX,Freestyle Flat
ATTACH;FMTTYPE=image/png:https://fedepeci.pe/wp-content/uploads/2017/09/EventoGEN.png.png
END:VEVENT
BEGIN:VEVENT
DTSTART;VALUE=DATE:20240615
DTEND;VALUE=DATE:20240616
DTSTAMP:20260422T070430
CREATED:20231215T144826Z
LAST-MODIFIED:20250305T152155Z
UID:11799-1718409600-1718495999@fedepeci.pe
SUMMARY:4a Fecha del Ranking Nacional BMX Racing 2024
DESCRIPTION:GUIA TECNICA COPA LIMA Y FEDERACION C2\n		\n					\n		\n				\n				\n				\n				\n					\n			\n						\n						GUIA TECNICA COPA LIMA Y FEDERACION C2 (ENGLISH)\n		\n					\n		\n				\n				\n				\n				\n					\n			\n						\n						Formulario Inscripcion / Entry Form C2 Lima 2026
URL:https://fedepeci.pe/event/4a-fecha-del-ranking-nacional-bmx-racing-2024/
LOCATION:Circuito San Miguel
CATEGORIES:BMX,Racing
ATTACH;FMTTYPE=image/jpeg:https://fedepeci.pe/wp-content/uploads/2023/12/neventobmx0065.jpg
END:VEVENT
BEGIN:VEVENT
DTSTART;VALUE=DATE:20240616
DTEND;VALUE=DATE:20240617
DTSTAMP:20260422T070430
CREATED:20240110T204446Z
LAST-MODIFIED:20250305T152155Z
UID:12018-1718496000-1718582399@fedepeci.pe
SUMMARY:3RA FECHA RANKING NACIONAL PISTA JUVENIL
DESCRIPTION:GUIA TECNICA COPA LIMA Y FEDERACION C2\n		\n					\n		\n				\n				\n				\n				\n					\n			\n						\n						GUIA TECNICA COPA LIMA Y FEDERACION C2 (ENGLISH)\n		\n					\n		\n				\n				\n				\n				\n					\n			\n						\n						Formulario Inscripcion / Entry Form C2 Lima 2026
URL:https://fedepeci.pe/event/3ra-fecha-ranking-nacional-pista-2024/
LOCATION:Velodromo de la Videna\, Velodromo de la Videna\, San Luis\, Lima\, Perú
CATEGORIES:Pista
ATTACH;FMTTYPE=image/jpeg:https://fedepeci.pe/wp-content/uploads/2024/01/neventopista0035.jpg
END:VEVENT
BEGIN:VEVENT
DTSTART;VALUE=DATE:20240619
DTEND;VALUE=DATE:20240625
DTSTAMP:20260422T070430
CREATED:20240407T155459Z
LAST-MODIFIED:20250305T152155Z
UID:12357-1718755200-1719273599@fedepeci.pe
SUMMARY:CAMPEONATO PANAMERICANO DE PISTA JUNIOR LIMA 2024
DESCRIPTION:GUIA TECNICA COPA LIMA Y FEDERACION C2\n		\n					\n		\n				\n				\n				\n				\n					\n			\n						\n						GUIA TECNICA COPA LIMA Y FEDERACION C2 (ENGLISH)\n		\n					\n		\n				\n				\n				\n				\n					\n			\n						\n						Formulario Inscripcion / Entry Form C2 Lima 2026
URL:https://fedepeci.pe/event/campeonato-panamericano-de-pista-junior-lima-2024/
CATEGORIES:Pista
ATTACH;FMTTYPE=image/jpeg:https://fedepeci.pe/wp-content/uploads/2024/04/neventopista0033.jpg
END:VEVENT
BEGIN:VEVENT
DTSTART;VALUE=DATE:20240623
DTEND;VALUE=DATE:20240624
DTSTAMP:20260422T070430
CREATED:20240116T190431Z
LAST-MODIFIED:20250305T152155Z
UID:12088-1719100800-1719187199@fedepeci.pe
SUMMARY:2DA VALIDA NACIONAL XCM 2024 ALLQAMARI 80K
DESCRIPTION:GUIA TECNICA COPA LIMA Y FEDERACION C2\n		\n					\n		\n				\n				\n				\n				\n					\n			\n						\n						GUIA TECNICA COPA LIMA Y FEDERACION C2 (ENGLISH)\n		\n					\n		\n				\n				\n				\n				\n					\n			\n						\n						Formulario Inscripcion / Entry Form C2 Lima 2026
URL:https://fedepeci.pe/event/2da-valida-nacional-xcm-2024/
LOCATION:Huarmey
CATEGORIES:MTB,XCM,XCO
ATTACH;FMTTYPE=image/jpeg:https://fedepeci.pe/wp-content/uploads/2024/01/neventomtb0014.jpg
END:VEVENT
BEGIN:VEVENT
DTSTART;VALUE=DATE:20240629
DTEND;VALUE=DATE:20240701
DTSTAMP:20260422T070430
CREATED:20240130T165801Z
LAST-MODIFIED:20250305T152155Z
UID:12181-1719619200-1719791999@fedepeci.pe
SUMMARY:CAMPEONATO NACIONAL DE RUTA CATEGORIA ELITE
DESCRIPTION:GUIA TECNICA COPA LIMA Y FEDERACION C2\n		\n					\n		\n				\n				\n				\n				\n					\n			\n						\n						GUIA TECNICA COPA LIMA Y FEDERACION C2 (ENGLISH)\n		\n					\n		\n				\n				\n				\n				\n					\n			\n						\n						Formulario Inscripcion / Entry Form C2 Lima 2026
URL:https://fedepeci.pe/event/campeonato-nacional-de-ruta-elite-2024/
CATEGORIES:Ruta
ATTACH;FMTTYPE=image/jpeg:https://fedepeci.pe/wp-content/uploads/2024/01/neventoruta0034.jpg
END:VEVENT
END:VCALENDAR