BEGIN:VCALENDAR
VERSION:2.0
PRODID:-//Federación Nacional Deportiva Peruana de Ciclismo - ECPv6.0.5//NONSGML v1.0//EN
CALSCALE:GREGORIAN
METHOD:PUBLISH
X-WR-CALNAME:Federación Nacional Deportiva Peruana de Ciclismo
X-ORIGINAL-URL:https://fedepeci.pe
X-WR-CALDESC:Eventos para Federación Nacional Deportiva Peruana de Ciclismo
REFRESH-INTERVAL;VALUE=DURATION:PT1H
X-Robots-Tag:noindex
X-PUBLISHED-TTL:PT1H
BEGIN:VTIMEZONE
TZID:America/Lima
BEGIN:STANDARD
TZOFFSETFROM:-0500
TZOFFSETTO:-0500
TZNAME:-05
DTSTART:20250101T000000
END:STANDARD
END:VTIMEZONE
BEGIN:VEVENT
DTSTART;VALUE=DATE:20250907
DTEND;VALUE=DATE:20250908
DTSTAMP:20260422T083312
CREATED:20250210T142229Z
LAST-MODIFIED:20250305T152041Z
UID:13526-1757203200-1757289599@fedepeci.pe
SUMMARY:7a Fecha Ranking Nacional BMX Racing 2025
DESCRIPTION:GUIA TECNICA COPA LIMA Y FEDERACION C2\n		\n					\n		\n				\n				\n				\n				\n					\n			\n						\n						GUIA TECNICA COPA LIMA Y FEDERACION C2 (ENGLISH)\n		\n					\n		\n				\n				\n				\n				\n					\n			\n						\n						Formulario Inscripcion / Entry Form C2 Lima 2026
URL:https://fedepeci.pe/event/7a-fecha-ranking-nacional-bmx-racing-2025/
CATEGORIES:BMX,Racing
ATTACH;FMTTYPE=image/png:https://fedepeci.pe/wp-content/uploads/2017/09/EventoGEN.png.png
END:VEVENT
BEGIN:VEVENT
DTSTART;VALUE=DATE:20250913
DTEND;VALUE=DATE:20250915
DTSTAMP:20260422T083312
CREATED:20250210T154544Z
LAST-MODIFIED:20250809T173326Z
UID:13572-1757721600-1757894399@fedepeci.pe
SUMMARY:CAMPEONATO PANAMERICANO BMX FLATLAND 2025
DESCRIPTION:GUIA TECNICA COPA LIMA Y FEDERACION C2\n		\n					\n		\n				\n				\n				\n				\n					\n			\n						\n						GUIA TECNICA COPA LIMA Y FEDERACION C2 (ENGLISH)\n		\n					\n		\n				\n				\n				\n				\n					\n			\n						\n						Formulario Inscripcion / Entry Form C2 Lima 2026
URL:https://fedepeci.pe/event/campeonato-panamericano-bmx-flat-2025/
LOCATION:Velodromo de la Videna\, Velodromo de la Videna\, San Luis\, Lima\, Perú
CATEGORIES:BMX,Freestyle Flat
ATTACH;FMTTYPE=image/jpeg:https://fedepeci.pe/wp-content/uploads/2025/02/neventobmx0073.jpg
END:VEVENT
BEGIN:VEVENT
DTSTART;VALUE=DATE:20250913
DTEND;VALUE=DATE:20250915
DTSTAMP:20260422T083312
CREATED:20250210T155727Z
LAST-MODIFIED:20250809T174040Z
UID:13589-1757721600-1757894399@fedepeci.pe
SUMMARY:CAMPEONATO PANAMERICANO DE FREESTYLE 2025
DESCRIPTION:GUIA TECNICA COPA LIMA Y FEDERACION C2\n		\n					\n		\n				\n				\n				\n				\n					\n			\n						\n						GUIA TECNICA COPA LIMA Y FEDERACION C2 (ENGLISH)\n		\n					\n		\n				\n				\n				\n				\n					\n			\n						\n						Formulario Inscripcion / Entry Form C2 Lima 2026
URL:https://fedepeci.pe/event/campeonato-panamericano-freestyle-2025/
CATEGORIES:BMX,Freestyle Park
ATTACH;FMTTYPE=image/jpeg:https://fedepeci.pe/wp-content/uploads/2025/02/neventobmx0074.jpg
END:VEVENT
END:VCALENDAR