BEGIN:VCALENDAR
VERSION:2.0
PRODID:-//Federación Nacional Deportiva Peruana de Ciclismo - ECPv6.0.5//NONSGML v1.0//EN
CALSCALE:GREGORIAN
METHOD:PUBLISH
X-ORIGINAL-URL:https://fedepeci.pe
X-WR-CALDESC:Eventos para Federación Nacional Deportiva Peruana de Ciclismo
REFRESH-INTERVAL;VALUE=DURATION:PT1H
X-Robots-Tag:noindex
X-PUBLISHED-TTL:PT1H
BEGIN:VTIMEZONE
TZID:America/Lima
BEGIN:STANDARD
TZOFFSETFROM:-0500
TZOFFSETTO:-0500
TZNAME:-05
DTSTART:20250101T000000
END:STANDARD
END:VTIMEZONE
BEGIN:VEVENT
DTSTART;VALUE=DATE:20251004
DTEND;VALUE=DATE:20251005
DTSTAMP:20260422T140156
CREATED:20250210T154028Z
LAST-MODIFIED:20250305T152041Z
UID:13566-1759536000-1759622399@fedepeci.pe
SUMMARY:3A FECHA RANKING NACIONAL BMX PARK 2025
DESCRIPTION:GUIA TECNICA COPA LIMA Y FEDERACION C2\n		\n					\n		\n				\n				\n				\n				\n					\n			\n						\n						GUIA TECNICA COPA LIMA Y FEDERACION C2 (ENGLISH)\n		\n					\n		\n				\n				\n				\n				\n					\n			\n						\n						Formulario Inscripcion / Entry Form C2 Lima 2026
URL:https://fedepeci.pe/event/3a-fecha-ranking-nacional-bmx-freestyle-2025/
CATEGORIES:BMX,Freestyle Park
ATTACH;FMTTYPE=image/png:https://fedepeci.pe/wp-content/uploads/2017/09/EventoGEN.png.png
END:VEVENT
BEGIN:VEVENT
DTSTART;VALUE=DATE:20251004
DTEND;VALUE=DATE:20251006
DTSTAMP:20260422T140156
CREATED:20250210T161612Z
LAST-MODIFIED:20250305T152041Z
UID:13617-1759536000-1759708799@fedepeci.pe
SUMMARY:3A FECHA RANKING NACIONAL RUTA 2025
DESCRIPTION:GUIA TECNICA COPA LIMA Y FEDERACION C2\n		\n					\n		\n				\n				\n				\n				\n					\n			\n						\n						GUIA TECNICA COPA LIMA Y FEDERACION C2 (ENGLISH)\n		\n					\n		\n				\n				\n				\n				\n					\n			\n						\n						Formulario Inscripcion / Entry Form C2 Lima 2026
URL:https://fedepeci.pe/event/3a-fecha-ranking-nacional-ruta-2025/
CATEGORIES:Ruta
ATTACH;FMTTYPE=image/png:https://fedepeci.pe/wp-content/uploads/2017/09/EventoGEN.png.png
END:VEVENT
BEGIN:VEVENT
DTSTART;VALUE=DATE:20251005
DTEND;VALUE=DATE:20251006
DTSTAMP:20260422T140156
CREATED:20250905T224242Z
LAST-MODIFIED:20250922T021911Z
UID:14160-1759622400-1759708799@fedepeci.pe
SUMMARY:4º VALIDA RANKING NACIONAL SUPER COPA CRITERIUM 2025
DESCRIPTION:GUIA TECNICA COPA LIMA Y FEDERACION C2\n		\n					\n		\n				\n				\n				\n				\n					\n			\n						\n						GUIA TECNICA COPA LIMA Y FEDERACION C2 (ENGLISH)\n		\n					\n		\n				\n				\n				\n				\n					\n			\n						\n						Formulario Inscripcion / Entry Form C2 Lima 2026
URL:https://fedepeci.pe/event/4o-valida-ranking-nacional-super-copa-criterium-2025/
LOCATION:Lurin
CATEGORIES:Ruta
ATTACH;FMTTYPE=image/jpeg:https://fedepeci.pe/wp-content/uploads/2025/09/neventoruta0039.jpg
END:VEVENT
BEGIN:VEVENT
DTSTART;VALUE=DATE:20251016
DTEND;VALUE=DATE:20251017
DTSTAMP:20260422T140156
CREATED:20250210T160903Z
LAST-MODIFIED:20250305T152041Z
UID:13608-1760572800-1760659199@fedepeci.pe
SUMMARY:CAMPEONATO NACIONAL JUNIOR / OPEN DAMAS E-CYCLING 2025 (VIRTUAL)
DESCRIPTION:GUIA TECNICA COPA LIMA Y FEDERACION C2\n		\n					\n		\n				\n				\n				\n				\n					\n			\n						\n						GUIA TECNICA COPA LIMA Y FEDERACION C2 (ENGLISH)\n		\n					\n		\n				\n				\n				\n				\n					\n			\n						\n						Formulario Inscripcion / Entry Form C2 Lima 2026
URL:https://fedepeci.pe/event/campeonato-nacional-junior-open-damas-e-cycling-2025/
LOCATION:Virtual
CATEGORIES:E-Cycling
ATTACH;FMTTYPE=image/png:https://fedepeci.pe/wp-content/uploads/2017/09/EventoGEN.png.png
END:VEVENT
BEGIN:VEVENT
DTSTART;VALUE=DATE:20251016
DTEND;VALUE=DATE:20251020
DTSTAMP:20260422T140156
CREATED:20250210T165619Z
LAST-MODIFIED:20250825T231008Z
UID:13657-1760572800-1760918399@fedepeci.pe
SUMMARY:American Series MTB DHI Lima 2025
DESCRIPTION:GUIA TECNICA COPA LIMA Y FEDERACION C2\n		\n					\n		\n				\n				\n				\n				\n					\n			\n						\n						GUIA TECNICA COPA LIMA Y FEDERACION C2 (ENGLISH)\n		\n					\n		\n				\n				\n				\n				\n					\n			\n						\n						Formulario Inscripcion / Entry Form C2 Lima 2026
URL:https://fedepeci.pe/event/american-series-mtb-dh-lima-2025/
LOCATION:Amancay
CATEGORIES:DHI,MTB
ATTACH;FMTTYPE=image/jpeg:https://fedepeci.pe/wp-content/uploads/2025/02/neventodh0040.jpg
END:VEVENT
BEGIN:VEVENT
DTSTART;VALUE=DATE:20251026
DTEND;VALUE=DATE:20251027
DTSTAMP:20260422T140156
CREATED:20250210T142300Z
LAST-MODIFIED:20250305T152012Z
UID:13528-1761436800-1761523199@fedepeci.pe
SUMMARY:8a Fecha Ranking Nacional BMX Racing 2025
DESCRIPTION:GUIA TECNICA COPA LIMA Y FEDERACION C2\n		\n					\n		\n				\n				\n				\n				\n					\n			\n						\n						GUIA TECNICA COPA LIMA Y FEDERACION C2 (ENGLISH)\n		\n					\n		\n				\n				\n				\n				\n					\n			\n						\n						Formulario Inscripcion / Entry Form C2 Lima 2026
URL:https://fedepeci.pe/event/8a-fecha-ranking-nacional-bmx-racing-2025/
CATEGORIES:BMX,Racing
ATTACH;FMTTYPE=image/png:https://fedepeci.pe/wp-content/uploads/2017/09/EventoGEN.png.png
END:VEVENT
END:VCALENDAR